BEGIN:VCALENDAR
PRODID:brasil.gov.agenda
VERSION:1.0
BEGIN:VEVENT
DTSTART:20220804T140000Z
DTEND:20220804T180000Z
DCREATED:20220810T184840Z
UID:Compromisso-cb5b082eb0f640ecb3df1c19450145eb
SEQUENCE:0
LAST-MODIFIED:20220810T184840Z
SUMMARY:Despachos Internos
PRIORITY:3
TRANSP:0
END:VEVENT
END:VCALENDAR
