BEGIN:VCALENDAR
PRODID:brasil.gov.agenda
VERSION:1.0
BEGIN:VEVENT
DTSTART:20220802T140000Z
DTEND:20220802T180000Z
DCREATED:20220804T123458Z
UID:Compromisso-049cd8f09b7049458a3c8781853a7af0
SEQUENCE:0
LAST-MODIFIED:20220804T123458Z
SUMMARY:Reunião Vice-Reitor e Secretaria dos Conselhos Superiores
DESCRIPTION:Reuniões Presenciais CONSU e CONSEPE.
PRIORITY:3
TRANSP:0
END:VEVENT
END:VCALENDAR
