BEGIN:VCALENDAR
PRODID:brasil.gov.agenda
VERSION:1.0
BEGIN:VEVENT
DTSTART:20220801T080000Z
DTEND:20220801T120000Z
DCREATED:20220804T122655Z
UID:Compromisso-9df34479e6fe4d66947f538b2c7295ac
SEQUENCE:0
LAST-MODIFIED:20220804T122655Z
SUMMARY:Reunião Vice-reitor e Direção FAMED
DESCRIPTION:Alterações no PPC
LOCATION:Reitoria
PRIORITY:3
TRANSP:0
END:VEVENT
END:VCALENDAR
