BEGIN:VCALENDAR
PRODID:brasil.gov.agenda
VERSION:1.0
BEGIN:VEVENT
DTSTART:20220729T080000Z
DTEND:20220729T120000Z
DCREATED:20220804T122431Z
UID:Compromisso-2a956e19a2b040f1a50e7fea86c2775b
SEQUENCE:0
LAST-MODIFIED:20220804T122431Z
SUMMARY:Despachos Internos
LOCATION:Reitoria
PRIORITY:3
TRANSP:0
END:VEVENT
END:VCALENDAR
