BEGIN:VCALENDAR
PRODID:brasil.gov.agenda
VERSION:1.0
BEGIN:VEVENT
DTSTART:20220729T140000Z
DTEND:20220729T180000Z
DCREATED:20220804T122530Z
UID:Compromisso-bff6027cfa524cfe91fa7bb107d0a741
SEQUENCE:0
LAST-MODIFIED:20220804T122530Z
SUMMARY:Despachos Internos
PRIORITY:3
TRANSP:0
END:VEVENT
END:VCALENDAR
