BEGIN:VCALENDAR
PRODID:brasil.gov.agenda
VERSION:1.0
BEGIN:VEVENT
DTSTART:20220728T140000Z
DTEND:20220728T180000Z
DCREATED:20220804T122115Z
UID:Compromisso-1972eccdbcb4416789092a16bfa0100f
SEQUENCE:0
LAST-MODIFIED:20220804T122115Z
SUMMARY:Colação de Grau Antecipada – Odontologia
PRIORITY:3
TRANSP:0
END:VEVENT
END:VCALENDAR
