BEGIN:VCALENDAR
PRODID:brasil.gov.agenda
VERSION:1.0
BEGIN:VEVENT
DTSTART:20220727T080000Z
DTEND:20220827T120000Z
DCREATED:20220804T121440Z
UID:Compromisso-61c1f9bf90c84b68b8aae5aab36e8478
SEQUENCE:0
LAST-MODIFIED:20220804T121440Z
SUMMARY:Despachos Internos
PRIORITY:3
TRANSP:0
END:VEVENT
END:VCALENDAR
