BEGIN:VCALENDAR
PRODID:brasil.gov.agenda
VERSION:1.0
BEGIN:VEVENT
DTSTART:20220726T140000Z
DTEND:20220726T180000Z
DCREATED:20220804T121321Z
UID:Compromisso-fa10e63186f5489bab0a98e21fced669
SEQUENCE:0
LAST-MODIFIED:20220804T121321Z
SUMMARY:Posse Docente do Curso de Engenharia Campus Janaúba
PRIORITY:3
TRANSP:0
END:VEVENT
END:VCALENDAR
