BEGIN:VCALENDAR
PRODID:brasil.gov.agenda
VERSION:1.0
BEGIN:VEVENT
DTSTART:20220726T000000Z
DTEND:20220726T120000Z
DCREATED:20220804T121201Z
UID:Compromisso-59259672956f4916926b3ea940e1807a
SEQUENCE:0
LAST-MODIFIED:20220804T121201Z
SUMMARY:Despachos Internos
PRIORITY:3
TRANSP:0
END:VEVENT
END:VCALENDAR
