BEGIN:VCALENDAR
PRODID:brasil.gov.agenda
VERSION:1.0
BEGIN:VEVENT
DTSTART:20220725T140000Z
DTEND:20220725T180000Z
DCREATED:20220804T121001Z
UID:Compromisso-acdfb536de464e338050661ff543127b
SEQUENCE:0
LAST-MODIFIED:20220804T121001Z
SUMMARY:Despachos Internos
LOCATION:Reitoria
PRIORITY:3
TRANSP:0
END:VEVENT
END:VCALENDAR
