BEGIN:VCALENDAR
PRODID:brasil.gov.agenda
VERSION:1.0
BEGIN:VEVENT
DTSTART:20220722T080000Z
DTEND:20220722T120000Z
DCREATED:20220722T172718Z
UID:Compromisso-4d6ce63de77a48c68bf63934f53fb481
SEQUENCE:0
LAST-MODIFIED:20220722T172719Z
SUMMARY:Despachos Internos
PRIORITY:3
TRANSP:0
END:VEVENT
END:VCALENDAR
