BEGIN:VCALENDAR
PRODID:brasil.gov.agenda
VERSION:1.0
BEGIN:VEVENT
DTSTART:20220721T140000Z
DTEND:20220721T180000Z
DCREATED:20220721T190102Z
UID:Compromisso-9554fc1dfcd342e0af2e6d15804fc583
SEQUENCE:0
LAST-MODIFIED:20220721T190102Z
SUMMARY:Despachos Internos
PRIORITY:3
TRANSP:0
END:VEVENT
END:VCALENDAR
