BEGIN:VCALENDAR
PRODID:brasil.gov.agenda
VERSION:1.0
BEGIN:VEVENT
DTSTART:20220720T140000Z
DTEND:20220720T180000Z
DCREATED:20220721T185740Z
UID:Compromisso-765f24b3ea5449b6b81b253fcc90462c
SEQUENCE:0
LAST-MODIFIED:20220721T185740Z
SUMMARY:Despachos Internos
PRIORITY:3
TRANSP:0
END:VEVENT
END:VCALENDAR
