BEGIN:VCALENDAR
PRODID:brasil.gov.agenda
VERSION:1.0
BEGIN:VEVENT
DTSTART:20220719T140000Z
DTEND:20220719T180000Z
DCREATED:20220721T185532Z
UID:Compromisso-0e477985974b49469c8bdd9e86fc770e
SEQUENCE:0
LAST-MODIFIED:20220721T185532Z
SUMMARY:Despachos Internos
PRIORITY:3
TRANSP:0
END:VEVENT
END:VCALENDAR
