BEGIN:VCALENDAR
PRODID:brasil.gov.agenda
VERSION:1.0
BEGIN:VEVENT
DTSTART:20220718T140000Z
DTEND:20220718T180000Z
DCREATED:20220721T185333Z
UID:Compromisso-eba16ac9e11d46e191171554ef4f298d
SEQUENCE:0
LAST-MODIFIED:20220721T185333Z
SUMMARY:Despachos Internos
PRIORITY:3
TRANSP:0
END:VEVENT
END:VCALENDAR
