BEGIN:VCALENDAR
PRODID:brasil.gov.agenda
VERSION:1.0
BEGIN:VEVENT
DTSTART:20220718T080000Z
DTEND:20220718T120000Z
DCREATED:20220721T185232Z
UID:Compromisso-7a7c5bd9d7ed49daa04a74be03b36de5
SEQUENCE:0
LAST-MODIFIED:20220721T185232Z
SUMMARY:Despachos Internos
PRIORITY:3
TRANSP:0
END:VEVENT
END:VCALENDAR
