BEGIN:VCALENDAR
PRODID:brasil.gov.agenda
VERSION:1.0
BEGIN:VEVENT
DTSTART:20220715T090000Z
DTEND:20220715T120000Z
DCREATED:20220721T184801Z
UID:Compromisso-02c143f7494348fabaeced081eaea680
SEQUENCE:0
LAST-MODIFIED:20220721T184801Z
SUMMARY:Reunião com Secretária do Consepe
DESCRIPTION:Reunião Consepe
PRIORITY:3
TRANSP:0
END:VEVENT
END:VCALENDAR
