BEGIN:VCALENDAR
PRODID:brasil.gov.agenda
VERSION:1.0
BEGIN:VEVENT
DTSTART:20220715T080000Z
DTEND:20220715T090000Z
DCREATED:20220721T184529Z
UID:Compromisso-8412ed8b9ab7430c87793edc4ebfc3ae
SEQUENCE:0
LAST-MODIFIED:20220721T184529Z
SUMMARY:Despachos Internos
PRIORITY:3
TRANSP:0
END:VEVENT
END:VCALENDAR
