BEGIN:VCALENDAR
PRODID:brasil.gov.agenda
VERSION:1.0
BEGIN:VEVENT
DTSTART:20220715T140000Z
DTEND:20220715T180000Z
DCREATED:20220721T184850Z
UID:Compromisso-45f4125870cd43b0951b9660ce01fbec
SEQUENCE:0
LAST-MODIFIED:20220721T184850Z
SUMMARY:Despachos Internos
PRIORITY:3
TRANSP:0
END:VEVENT
END:VCALENDAR
