BEGIN:VCALENDAR
PRODID:brasil.gov.agenda
VERSION:1.0
BEGIN:VEVENT
DTSTART:20220714T083000Z
DTEND:20220714T100000Z
DCREATED:20220714T120056Z
UID:Compromisso-7ed72891158140ce8679781a07cbbb6d
SEQUENCE:0
LAST-MODIFIED:20220714T120056Z
SUMMARY:Reunião Vice-Reitor e Secretária do Conselho Universitário
LOCATION:Reitoria
PRIORITY:3
TRANSP:0
END:VEVENT
END:VCALENDAR
