BEGIN:VCALENDAR
PRODID:brasil.gov.agenda
VERSION:1.0
BEGIN:VEVENT
DTSTART:20220714T100000Z
DTEND:20220714T120000Z
DCREATED:20220714T120121Z
UID:Compromisso-2e920beacde64bb19dd7a7993c1fb1da
SEQUENCE:0
LAST-MODIFIED:20220714T120121Z
SUMMARY:Despachos Internos
LOCATION:Reitoria
PRIORITY:3
TRANSP:0
END:VEVENT
END:VCALENDAR
