BEGIN:VCALENDAR
PRODID:brasil.gov.agenda
VERSION:1.0
BEGIN:VEVENT
DTSTART:20220714T140000Z
DTEND:20220714T180000Z
DCREATED:20220714T120151Z
UID:Compromisso-99992763ab264775bdedd3bbb16bbcbd
SEQUENCE:0
LAST-MODIFIED:20220714T120152Z
SUMMARY:Despachos Internos
LOCATION:Reitoria
PRIORITY:3
TRANSP:0
END:VEVENT
END:VCALENDAR
