BEGIN:VCALENDAR
PRODID:brasil.gov.agenda
VERSION:1.0
BEGIN:VEVENT
DTSTART:20220713T080000Z
DTEND:20220713T090000Z
DCREATED:20220714T113833Z
UID:Compromisso-a514c5623aba4e1ebbf331bc4e5b8ddd
SEQUENCE:0
LAST-MODIFIED:20220714T113833Z
SUMMARY:Despachos Internos
LOCATION:Reitoria
PRIORITY:3
TRANSP:0
END:VEVENT
END:VCALENDAR
