BEGIN:VCALENDAR
PRODID:brasil.gov.agenda
VERSION:1.0
BEGIN:VEVENT
DTSTART:20220713T140000Z
DTEND:20220713T180000Z
DCREATED:20220714T113925Z
UID:Compromisso-204bea4a1aff445a98207d16bbad4ba2
SEQUENCE:0
LAST-MODIFIED:20220714T113925Z
SUMMARY:Despachos Internos
LOCATION:Reitoria
PRIORITY:3
TRANSP:0
END:VEVENT
END:VCALENDAR
