BEGIN:VCALENDAR
PRODID:brasil.gov.agenda
VERSION:1.0
BEGIN:VEVENT
DTSTART:20220713T090000Z
DTEND:20220713T100000Z
DCREATED:20220714T113857Z
UID:Compromisso-5cec74e8c23e4a5f93dbf9906d680ec9
SEQUENCE:0
LAST-MODIFIED:20220714T113857Z
SUMMARY:Colação de Grau
LOCATION:Reitoria
PRIORITY:3
TRANSP:0
END:VEVENT
END:VCALENDAR
