BEGIN:VCALENDAR
PRODID:brasil.gov.agenda
VERSION:1.0
BEGIN:VEVENT
DTSTART:20220712T083000Z
DTEND:20220712T120000Z
DCREATED:20220712T133656Z
UID:Compromisso-81e2b6f5b03e4b3a9e06fbf2cd4fefeb
SEQUENCE:0
LAST-MODIFIED:20220712T134033Z
SUMMARY:Reunião Vice-Reitor e Secretária do Conselho Universitário
LOCATION:Reitoria
PRIORITY:3
TRANSP:0
END:VEVENT
END:VCALENDAR
