BEGIN:VCALENDAR
PRODID:brasil.gov.agenda
VERSION:1.0
BEGIN:VEVENT
DTSTART:20220712T130000Z
DTEND:20220712T150000Z
DCREATED:20220712T133828Z
UID:Compromisso-f6e64e0710eb4d27a1b56f03322aaac8
SEQUENCE:0
LAST-MODIFIED:20220712T134208Z
SUMMARY:Reunião Vice-Reitor e Secretária de Processos Administrativos
PRIORITY:3
TRANSP:0
END:VEVENT
END:VCALENDAR
