BEGIN:VCALENDAR
PRODID:brasil.gov.agenda
VERSION:1.0
BEGIN:VEVENT
DTSTART:20220712T150000Z
DTEND:20220712T180000Z
DCREATED:20220712T135158Z
UID:Compromisso-7cd749c7b8174df7846c7aa64fd98107
SEQUENCE:0
LAST-MODIFIED:20220712T135158Z
SUMMARY:Despachos Internos
LOCATION:Reitoria
PRIORITY:3
TRANSP:0
END:VEVENT
END:VCALENDAR
