BEGIN:VCALENDAR
PRODID:brasil.gov.agenda
VERSION:1.0
BEGIN:VEVENT
DTSTART:20220711T080000Z
DTEND:20220711T120000Z
DCREATED:20220711T125453Z
UID:Compromisso-63f338373ddf4d0a8299e4087cc58a7a
SEQUENCE:0
LAST-MODIFIED:20220711T125453Z
SUMMARY:Despachos Internos
LOCATION:Reitoria
PRIORITY:3
TRANSP:0
END:VEVENT
END:VCALENDAR
