BEGIN:VCALENDAR
PRODID:brasil.gov.agenda
VERSION:1.0
BEGIN:VEVENT
DTSTART:20220708T080000Z
DTEND:20220708T120000Z
DCREATED:20220711T130720Z
UID:Compromisso-8254d388e11141a3805f54da5e041e0e
SEQUENCE:0
LAST-MODIFIED:20220711T130720Z
SUMMARY:Despachos Internos
LOCATION:Reitoria
PRIORITY:3
TRANSP:0
END:VEVENT
END:VCALENDAR
