BEGIN:VCALENDAR
PRODID:brasil.gov.agenda
VERSION:1.0
BEGIN:VEVENT
DTSTART:20220707T080000Z
DTEND:20220707T120000Z
DCREATED:20220711T130328Z
UID:Compromisso-a4c6972cb5864fe39ccce548092535d1
SEQUENCE:0
LAST-MODIFIED:20220711T130328Z
SUMMARY:Despachos Internos
LOCATION:Reitoria
PRIORITY:3
TRANSP:0
END:VEVENT
END:VCALENDAR
