BEGIN:VCALENDAR
PRODID:brasil.gov.agenda
VERSION:1.0
BEGIN:VEVENT
DTSTART:20220706T080000Z
DTEND:20220706T100000Z
DCREATED:20220711T125923Z
UID:Compromisso-35d305de959b47d2ab176ae89b08cf06
SEQUENCE:0
LAST-MODIFIED:20220711T125923Z
SUMMARY:Despachos Internos
LOCATION:Reitoria
PRIORITY:3
TRANSP:0
END:VEVENT
END:VCALENDAR
