BEGIN:VCALENDAR
PRODID:brasil.gov.agenda
VERSION:1.0
BEGIN:VEVENT
DTSTART:20220706T140000Z
DTEND:20220706T180000Z
DCREATED:20220711T130026Z
UID:Compromisso-2c49fd1b305543d29b8e19c6710205f1
SEQUENCE:0
LAST-MODIFIED:20220711T130026Z
SUMMARY:Despachos Internos
LOCATION:Reitoria
PRIORITY:3
TRANSP:0
END:VEVENT
END:VCALENDAR
