BEGIN:VCALENDAR
PRODID:brasil.gov.agenda
VERSION:1.0
BEGIN:VEVENT
DTSTART:20220706T100000Z
DTEND:20220706T120000Z
DCREATED:20220711T125956Z
UID:Compromisso-1d341300c0d44594b170ad4bcd33dbd5
SEQUENCE:0
LAST-MODIFIED:20220711T125956Z
SUMMARY:Colação de Grau Posterior
LOCATION:Reitoria
PRIORITY:3
TRANSP:0
END:VEVENT
END:VCALENDAR
