BEGIN:VCALENDAR
PRODID:brasil.gov.agenda
VERSION:1.0
BEGIN:VEVENT
DTSTART:20220705T080000Z
DTEND:20220705T120000Z
DCREATED:20220711T125811Z
UID:Compromisso-46795c412a1e488ebd18b47274fcb649
SEQUENCE:0
LAST-MODIFIED:20220711T125811Z
SUMMARY:Despachos Internos
LOCATION:Reitoria
PRIORITY:3
TRANSP:0
END:VEVENT
END:VCALENDAR
