BEGIN:VCALENDAR
PRODID:brasil.gov.agenda
VERSION:1.0
BEGIN:VEVENT
DTSTART:20220704T110000Z
DTEND:20220704T120000Z
DCREATED:20220711T125702Z
UID:Compromisso-f910edb3476b468fa7b7c26873466669
SEQUENCE:0
LAST-MODIFIED:20220711T125702Z
SUMMARY:Posse Docente
LOCATION:Reitoria
PRIORITY:3
TRANSP:0
END:VEVENT
END:VCALENDAR
