BEGIN:VCALENDAR
PRODID:brasil.gov.agenda
VERSION:1.0
BEGIN:VEVENT
DTSTART:20220704T080000Z
DTEND:20220704T110000Z
DCREATED:20220711T125631Z
UID:Compromisso-399e7fca85a843ff88a9a74c3ee3951a
SEQUENCE:0
LAST-MODIFIED:20220711T125631Z
SUMMARY:Despachos Internos
LOCATION:Reitoria
PRIORITY:3
TRANSP:0
END:VEVENT
END:VCALENDAR
