BEGIN:VCALENDAR
PRODID:brasil.gov.agenda
VERSION:1.0
BEGIN:VEVENT
DTSTART:20220701T090000Z
DTEND:20220701T100000Z
DCREATED:20220705T180000Z
UID:Compromisso-b97f49f8b7ae43048f693de73b5c4792
SEQUENCE:0
LAST-MODIFIED:20220705T180000Z
SUMMARY:Colação de Grau Antecipada
LOCATION:Reitoria
PRIORITY:3
TRANSP:0
END:VEVENT
END:VCALENDAR
