BEGIN:VCALENDAR
PRODID:brasil.gov.agenda
VERSION:1.0
BEGIN:VEVENT
DTSTART:20220629T080000Z
DTEND:20220629T120000Z
DCREATED:20220705T174116Z
UID:Compromisso-22eb14a91f804be3979373420fa46d30
SEQUENCE:0
LAST-MODIFIED:20220705T175525Z
SUMMARY:Despachos Internos
LOCATION:Reitoria
PRIORITY:3
TRANSP:0
END:VEVENT
END:VCALENDAR
