BEGIN:VCALENDAR
PRODID:brasil.gov.agenda
VERSION:1.0
BEGIN:VEVENT
DTSTART:20220621T080000Z
DTEND:20220621T120000Z
DCREATED:20220622T142034Z
UID:Compromisso-42412b4f77e74d2696a38c7be4f92c0a
SEQUENCE:0
LAST-MODIFIED:20220622T142034Z
SUMMARY:Reunião Vice-Reitor e Secretária dos Conselhos Superiores
LOCATION:Reitoria
PRIORITY:3
TRANSP:0
END:VEVENT
END:VCALENDAR
