BEGIN:VCALENDAR
PRODID:brasil.gov.agenda
VERSION:1.0
BEGIN:VEVENT
DTSTART:20220620T143000Z
DTEND:20220620T170000Z
DCREATED:20220622T141946Z
UID:Compromisso-b9238bac2a7d4b8fa36bd4f7eca8c506
SEQUENCE:0
LAST-MODIFIED:20220622T141946Z
SUMMARY:Reunião Vice-Reitor\, PROGEP\, PRPPG\, PROGRAD e Auditoria
DESCRIPTION:Processo SEI! 23086.001335/2022-61
LOCATION:Reitoria
PRIORITY:3
TRANSP:0
END:VEVENT
END:VCALENDAR
