BEGIN:VCALENDAR
PRODID:brasil.gov.agenda
VERSION:1.0
BEGIN:VEVENT
DTSTART:20220620T110000Z
DTEND:20220620T120000Z
DCREATED:20220622T141915Z
UID:Compromisso-0e3825f6380c4018b28aa3ef6a163b76
SEQUENCE:0
LAST-MODIFIED:20220622T141915Z
SUMMARY:Posse de Docentes
LOCATION:Reitoria
PRIORITY:3
TRANSP:0
END:VEVENT
END:VCALENDAR
