BEGIN:VCALENDAR
PRODID:brasil.gov.agenda
VERSION:1.0
BEGIN:VEVENT
DTSTART:20220615T140000Z
DTEND:20220615T180000Z
DCREATED:20220705T190635Z
UID:Compromisso-89849b51e4ef46669b3b4e74ce05bdea
SEQUENCE:0
LAST-MODIFIED:20220705T190635Z
SUMMARY:Reunião com Secretária dos Conselhos Superiores
LOCATION:Reitoria
PRIORITY:3
TRANSP:0
END:VEVENT
END:VCALENDAR
