BEGIN:VCALENDAR
PRODID:brasil.gov.agenda
VERSION:1.0
BEGIN:VEVENT
DTSTART:20220615T080000Z
DTEND:20220615T120000Z
DCREATED:20220705T190546Z
UID:Compromisso-c31d32895f3f44dc852639c6b001f388
SEQUENCE:0
LAST-MODIFIED:20220705T190546Z
SUMMARY:183ª reunião sendo a 50ª sessão em caráter extraordinário do CONSEPE
LOCATION:Reitoria
PRIORITY:3
TRANSP:0
END:VEVENT
END:VCALENDAR
