BEGIN:VCALENDAR
PRODID:brasil.gov.agenda
VERSION:1.0
BEGIN:VEVENT
DTSTART:20220614T140000Z
DTEND:20220614T180000Z
DCREATED:20220622T140409Z
UID:Compromisso-694a664528514c528bdfc0650e11dee5
SEQUENCE:0
LAST-MODIFIED:20220622T140409Z
SUMMARY:Reunião com Secretária dos Conselhos Superiores
LOCATION:Reitoria
PRIORITY:3
TRANSP:0
END:VEVENT
END:VCALENDAR
