BEGIN:VCALENDAR
PRODID:brasil.gov.agenda
VERSION:1.0
BEGIN:VEVENT
DTSTART:20220613T000000Z
DTEND:20220613T000000Z
DCREATED:20220622T140241Z
UID:Compromisso-86992999da074df4a611c075e038d39d
SEQUENCE:0
LAST-MODIFIED:20220622T140241Z
SUMMARY:Feriado Municipal (Dtna e Unaí) - Santo Antônio
LOCATION:Reitoria
PRIORITY:3
TRANSP:0
END:VEVENT
END:VCALENDAR
