BEGIN:VCALENDAR
PRODID:brasil.gov.agenda
VERSION:1.0
BEGIN:VEVENT
DTSTART:20220609T083000Z
DTEND:20220609T100000Z
DCREATED:20220609T184842Z
UID:Compromisso-db5f15a363f445ce919a4de1a5750957
SEQUENCE:0
LAST-MODIFIED:20220609T184842Z
SUMMARY:Reunião Vice-Reitor e Secretária dos Conselhos Superiores
LOCATION:Reitoria
PRIORITY:3
TRANSP:0
END:VEVENT
END:VCALENDAR
