BEGIN:VCALENDAR
PRODID:brasil.gov.agenda
VERSION:1.0
BEGIN:VEVENT
DTSTART:20220609T140000Z
DTEND:20220609T180000Z
DCREATED:20220622T133454Z
UID:Compromisso-65bfa97ea91140b98b98f2599c903608
SEQUENCE:0
LAST-MODIFIED:20220622T133454Z
SUMMARY:275ª reunião em caráter ordinário do CONCUR
LOCATION:Reitoria
PRIORITY:3
TRANSP:0
END:VEVENT
END:VCALENDAR
