BEGIN:VCALENDAR
PRODID:brasil.gov.agenda
VERSION:1.0
BEGIN:VEVENT
DTSTART:20220608T140000Z
DTEND:20220608T150000Z
DCREATED:20220609T184335Z
UID:Compromisso-e8a15f117f9c4eff9422786bcf389e10
SEQUENCE:0
LAST-MODIFIED:20220609T184335Z
SUMMARY:Posse Docente
LOCATION:Reitoria
PRIORITY:3
TRANSP:0
END:VEVENT
END:VCALENDAR
