BEGIN:VCALENDAR
PRODID:brasil.gov.agenda
VERSION:1.0
BEGIN:VEVENT
DTSTART:20220608T150000Z
DTEND:20220608T180000Z
DCREATED:20220609T184352Z
UID:Compromisso-4412a177844a46c59d5ee5a1a2b89ddb
SEQUENCE:0
LAST-MODIFIED:20220609T184352Z
SUMMARY:Despachos Internos
LOCATION:Reitoria
PRIORITY:3
TRANSP:0
END:VEVENT
END:VCALENDAR
